BEGIN:VCALENDAR
VERSION:2.0
PRODID:-//sebbo.net//ical-generator//EN
BEGIN:VEVENT
UID:ee00ded3-718d-4b5c-acf1-266e61b89e0a
SEQUENCE:0
DTSTAMP:20260422T084843Z
DTSTART:20261023T160000Z
DTEND:20261023T193000Z
SUMMARY:Heimspiel  4 - The Butcher Sisters \, The Browning & Mambo Kurt - 
 Mannheim - Maimarktclub
LOCATION:Maimarktclub\,  Xaver-Fuhr-Straße 101\, 68163 Mannheim\, Germany
DESCRIPTION:Doors: 18:00 Uhr\, Start: 19:30
END:VEVENT
END:VCALENDAR